BEGIN:VCALENDAR
VERSION:2.0
PRODID:-//wp-events-plugin.com//7.2.3.1//EN
TZID:America/Chicago
X-WR-TIMEZONE:America/Chicago
BEGIN:VEVENT
UID:28@susanvankirk.com
DTSTART;TZID=America/Chicago:20160509T183000
DTEND;TZID=America/Chicago:20160509T200000
DTSTAMP:20201210T210812Z
URL:https://susanvankirk.com/events/bettys-book-club/
SUMMARY:Betty's Book Club
DESCRIPTION:We'll be talking about my first Endurance mystery\, Three May K
 eep a Secret\, and I'll also mention my ebook\, The Locket: From the Caseb
 ook of TJ Sweeney.  My second Endurance mystery\, Marry in Haste\, will b
 e out in November 2016.
LOCATION:Betty Nelson's house\, 4237 Orchard Drive\, Galesburg\, ILLINOIS\,
  61462\, United States
GEO:40.9529749;-90.43824970000003
X-APPLE-STRUCTURED-LOCATION;VALUE=URI;X-ADDRESS=4237 Orchard Drive\, Galesb
 urg\, ILLINOIS\, 61462\, United States;X-APPLE-RADIUS=100;X-TITLE=Betty Ne
 lson's house:geo:40.9529749,-90.43824970000003
END:VEVENT
BEGIN:VTIMEZONE
TZID:America/Chicago
X-LIC-LOCATION:America/Chicago
BEGIN:DAYLIGHT
DTSTART:20160313T030000
TZOFFSETFROM:-0600
TZOFFSETTO:-0500
TZNAME:CDT
END:DAYLIGHT
END:VTIMEZONE
END:VCALENDAR