BEGIN:VCALENDAR
VERSION:2.0
PRODID:-//wp-events-plugin.com//7.2.3.1//EN
TZID:America/Chicago
X-WR-TIMEZONE:America/Chicago
BEGIN:VEVENT
UID:223@susanvankirk.com
DTSTART;TZID=America/Chicago;VALUE=DATE:20260305
DTEND;TZID=America/Chicago;VALUE=DATE:20260306
DTSTAMP:20260222T040659Z
URL:https://susanvankirk.com/events/writing-a-novella-at-writers-who-kill/
SUMMARY:Writing a Novella at Writers Who Kill
DESCRIPTION:\n\nI'll be posting my latest post at Writers Who Kill\, compri
 sed of a group of 23 mystery writers. My turn comes the first Thursday of 
 each month\, so you'll see my words about writing novellas on the blog on 
 March 5.
ATTACH;FMTTYPE=image/jpeg:https://susanvankirk.com/wp-content/uploads/2025
 /05/Writers-Who-Kill-Masthead-Take-26655.jpg
CATEGORIES:Blog post
END:VEVENT
BEGIN:VTIMEZONE
TZID:America/Chicago
X-LIC-LOCATION:America/Chicago
BEGIN:STANDARD
DTSTART:20251102T010000
TZOFFSETFROM:-0500
TZOFFSETTO:-0600
TZNAME:CST
END:STANDARD
END:VTIMEZONE
END:VCALENDAR